BEGIN:VCALENDAR
VERSION:2.0
PRODID:-//Pfadi St. Mauritius - ECPv6.15.14//NONSGML v1.0//EN
CALSCALE:GREGORIAN
METHOD:PUBLISH
X-WR-CALNAME:Pfadi St. Mauritius
X-ORIGINAL-URL:https://www.pfadistmauritius.ch
X-WR-CALDESC:Veranstaltungen für Pfadi St. Mauritius
REFRESH-INTERVAL;VALUE=DURATION:PT1H
X-Robots-Tag:noindex
X-PUBLISHED-TTL:PT1H
BEGIN:VTIMEZONE
TZID:Europe/Berlin
BEGIN:DAYLIGHT
TZOFFSETFROM:+0100
TZOFFSETTO:+0200
TZNAME:CEST
DTSTART:20240331T010000
END:DAYLIGHT
BEGIN:STANDARD
TZOFFSETFROM:+0200
TZOFFSETTO:+0100
TZNAME:CET
DTSTART:20241027T010000
END:STANDARD
BEGIN:DAYLIGHT
TZOFFSETFROM:+0100
TZOFFSETTO:+0200
TZNAME:CEST
DTSTART:20250330T010000
END:DAYLIGHT
BEGIN:STANDARD
TZOFFSETFROM:+0200
TZOFFSETTO:+0100
TZNAME:CET
DTSTART:20251026T010000
END:STANDARD
BEGIN:DAYLIGHT
TZOFFSETFROM:+0100
TZOFFSETTO:+0200
TZNAME:CEST
DTSTART:20260329T010000
END:DAYLIGHT
BEGIN:STANDARD
TZOFFSETFROM:+0200
TZOFFSETTO:+0100
TZNAME:CET
DTSTART:20261025T010000
END:STANDARD
END:VTIMEZONE
BEGIN:VEVENT
DTSTART;TZID=Europe/Berlin:20250621T140000
DTEND;TZID=Europe/Berlin:20250621T170000
DTSTAMP:20260421T171808
CREATED:20250619T182713Z
LAST-MODIFIED:20250619T182916Z
UID:10052-1750514400-1750525200@www.pfadistmauritius.ch
SUMMARY:Wölfliakti
DESCRIPTION:Ahtänzle:  14:00 u.T \nAbtänzle: 17:00 u.T \nMitnehmen: \n\nBadekleider 👙\nBadetuch\n2.- Fr.💰\nZvieri 🍦\nZtrinke (viel)🧃\n Sonnenschutz 🏜\nGueti Luune😁\n\nUnser Beschts s Wölflileitigsteam
URL:https://www.pfadistmauritius.ch/event/automatisch-gespeicherter-entwurf/
CATEGORIES:Aktivität
END:VEVENT
END:VCALENDAR