BEGIN:VCALENDAR
VERSION:2.0
PRODID:-//Pfadi St. Mauritius - ECPv6.15.14//NONSGML v1.0//EN
CALSCALE:GREGORIAN
METHOD:PUBLISH
X-WR-CALNAME:Pfadi St. Mauritius
X-ORIGINAL-URL:https://www.pfadistmauritius.ch
X-WR-CALDESC:Veranstaltungen für Pfadi St. Mauritius
REFRESH-INTERVAL;VALUE=DURATION:PT1H
X-Robots-Tag:noindex
X-PUBLISHED-TTL:PT1H
BEGIN:VTIMEZONE
TZID:Europe/Berlin
BEGIN:DAYLIGHT
TZOFFSETFROM:+0100
TZOFFSETTO:+0200
TZNAME:CEST
DTSTART:20230326T010000
END:DAYLIGHT
BEGIN:STANDARD
TZOFFSETFROM:+0200
TZOFFSETTO:+0100
TZNAME:CET
DTSTART:20231029T010000
END:STANDARD
BEGIN:DAYLIGHT
TZOFFSETFROM:+0100
TZOFFSETTO:+0200
TZNAME:CEST
DTSTART:20240331T010000
END:DAYLIGHT
BEGIN:STANDARD
TZOFFSETFROM:+0200
TZOFFSETTO:+0100
TZNAME:CET
DTSTART:20241027T010000
END:STANDARD
BEGIN:DAYLIGHT
TZOFFSETFROM:+0100
TZOFFSETTO:+0200
TZNAME:CEST
DTSTART:20250330T010000
END:DAYLIGHT
BEGIN:STANDARD
TZOFFSETFROM:+0200
TZOFFSETTO:+0100
TZNAME:CET
DTSTART:20251026T010000
END:STANDARD
END:VTIMEZONE
BEGIN:VEVENT
DTSTART;TZID=Europe/Berlin:20240831T140000
DTEND;TZID=Europe/Berlin:20240831T170000
DTSTAMP:20260422T120118
CREATED:20240828T184257Z
LAST-MODIFIED:20240828T184257Z
UID:9716-1725112800-1725123600@www.pfadistmauritius.ch
SUMMARY:Wölfli
DESCRIPTION:Ich ha euri Leitpersone! \nMit bringen: \n– Pfadi Kravatte \n– z’vieri zum teilen!!!🍿 \n– Lieblings Besteck🍴 \n– z’trinke🥤 \n– Wetter entsprechende Kleidung 🌦️☔🌞 \nIch bi de Franz \nPs: Übergabe Zeit 14:00
URL:https://www.pfadistmauritius.ch/event/woelfli-3/
LOCATION:unter Turm\, 47.480625\, 7.614971
CATEGORIES:Aktivität
END:VEVENT
END:VCALENDAR